Workbook
Name Area_of_Concern___Patient_Rights: '[1]Summary and Table of Content'!$C$5

Sheet Department Wise
C1: NQAS SCORE CARD-DISTRICT HOSPITAL | H1: Version : DH/ 02/19
C3: Hospital Score Card (Deparatment wise)
C4: Accident & Emergency | D4: Labour Room (LaQshya) | E4: ICU | F4: OT | G4: Pharmacy | H4: Hospital Score
C5: ='Emergency '!D743 -> 1 | D5: ='Labour Room (LaQshya)'!D659 -> 1 | E5: =ICU!D721 -> 1 | F5: =OT!D720 -> 1 | G5: =Pharmacy!D618 -> 1
C6: OPD | D6: Maternity OT (LaQshya) | E6: Maternity Ward | F6: NRC | G6: Auxillary Services | H6: =('Emergency '!B743+OPD!B797+'Labour Room (LaQshya)'!B659+'Maternity Ward'!B705+'Ped Ward'!B685+'SNCU '!B740+'NRC '!B712+OT!B720+'M-OT (LaQshya)'!B646+'PP Unit'!B757+ICU!B721+IPD!B669+'Blood Bank'!B658+Lab!B675+'Radiology '!B626+Pharmacy!B618+'Auxillary services'!B647+'Mortuary '!B590+Admin!B888)/('Emergency '!C743+OPD!C797+'Labour Room (LaQshya)'!C659+'Maternity Ward'!C705+'Ped Ward'!C685+'SNCU '!C740+'NRC '!C712+OT!C720+'M-OT (LaQshya)'!C646+'PP Unit'!C757+ICU!C721+IPD!C669+'Blood Bank'!C658+Lab!C675+'Radiology '!C626+Pharmacy!C618+'Auxillary services'!C647+'Mortuary '!C590+Admin!C888) -> 0.99992601
C7: =OPD!D797 -> 1 | D7: ='M-OT (LaQshya)'!D646 -> 1 | E7: ='Maternity Ward'!D705 -> 1 | F7: ='NRC '!D712 -> 1 | G7: ='Auxillary services'!D647 -> 1
C8: Laboratory | D8: SNCU | E8: Paediateric Ward | F8: Blood Bank | G8: General Admin | H8: LaQshya Score
C9: =Lab!D675 -> 1 | D9: ='SNCU '!D740 -> 1 | E9: ='Ped Ward'!D685 -> 1 | F9: ='Blood Bank'!D658 -> 1 | G9: =Admin!D888 -> 0.99915683
C10: Radiology | D10: PP Unit | E10: IPD | F10: Mortuary | H10: =('Labour Room (LaQshya)'!B659+'M-OT (LaQshya)'!B646)/('Labour Room (LaQshya)'!C659+'M-OT (LaQshya)'!C646) -> 1
C11: ='Radiology '!D626 -> 1 | D11: ='PP Unit'!D757 -> 1 | E11: =IPD!D669 -> 1 | F11: ='Mortuary '!D590 -> 1
C17: =UPPER("Hospital Quality Score Card Area of Concern wise") -> HOSPITAL QUALITY SCORE CARD AREA OF CONCERN WISE
C18: Service Provision | D18: Patient Rights | E18: Inputs | F18: Support Services
C19: =('Emergency '!B735+OPD!B789+'Labour Room (LaQshya)'!B651+'Maternity Ward'!B697+'Ped Ward'!B677+'SNCU '!B732+'NRC '!B704+OT!B712+'M-OT (LaQshya)'!B638+'PP Unit'!B749+ICU!B713+IPD!B661+'Blood Bank'!B650+Lab!B667+'Radiology '!B618+Pharmacy!B610+'Auxillary services'!B639+'Mortuary '!B582+Admin!B880)/('Emergency '!C735+OPD!C789+'Labour Room (LaQshya)'!C651+'Maternity Ward'!C697+'Ped Ward'!C677+'SNCU '!C732+'NRC '!C704+OT!C712+'M-OT (LaQshya)'!C638+'PP Unit'!C749+ICU!C713+IPD!C661+'Blood Bank'!C650+Lab!C667+'Radiology '!C618+Pharmacy!C610+'Auxillary services'!C639+'Mortuary '!C582+Admin!C880) -> 1 | D19: =('Emergency '!B736+OPD!B790+'Labour Room (LaQshya)'!B652+'Maternity Ward'!B698+'Ped Ward'!B678+'SNCU '!B733+'NRC '!B705+OT!B713+'M-OT (LaQshya)'!B639+'PP Unit'!B750+ICU!B714+IPD!B662+'Blood Bank'!B651+Lab!B668+'Radiology '!B619+Pharmacy!B611+'Auxillary services'!B640+'Mortuary '!B583+Admin!B881)/('Emergency '!C736+OPD!C790+'Labour Room (LaQshya)'!C652+'Maternity Ward'!C698+'Ped Ward'!C678+'SNCU '!C733+'NRC '!C705+OT!C713+'M-OT (LaQshya)'!C639+'PP Unit'!C750+ICU!C714+IPD!C662+'Blood Bank'!C651+Lab!C668+'Radiology '!C619+Pharmacy!C611+'Auxillary services'!C640+'Mortuary '!C583+Admin!C881) -> 1 | E19: =('Emergency '!B737+OPD!B791+'Labour Room (LaQshya)'!B653+'Maternity Ward'!B699+'Ped Ward'!B679+'SNCU '!B734+'NRC '!B706+OT!B714+'M-OT (LaQshya)'!B640+'PP Unit'!B751+ICU!B715+IPD!B663+'Blood Bank'!B652+Lab!B669+'Radiology '!B620+Pharmacy!B612+'Auxillary services'!B641+'Mortuary '!B584+Admin!B882)/('Emergency '!C737+OPD!C791+'Labour Room (LaQshya)'!C653+'Maternity Ward'!C699+'Ped Ward'!C679+'SNCU '!C734+'NRC '!C706+OT!C714+'M-OT (LaQshya)'!C640+'PP Unit'!C751+ICU!C715+IPD!C663+'Blood Bank'!C652+Lab!C669+'Radiology '!C620+Pharmacy!C612+'Auxillary services'!C641+'Mortuary '!C584+Admin!C882) -> 0.99961774 | F19: =('Emergency '!B738+OPD!B792+'Labour Room (LaQshya)'!B654+'Maternity Ward'!B700+'Ped Ward'!B680+'SNCU '!B735+'NRC '!B707+OT!B715+'M-OT (LaQshya)'!B641+'PP Unit'!B752+ICU!B716+IPD!B664+'Blood Bank'!B653+Lab!B670+'Radiology '!B621+Pharmacy!B613+'Auxillary services'!B642+'Mortuary '!B585+Admin!B883)/('Emergency '!C738+OPD!C792+'Labour Room (LaQshya)'!C654+'Maternity Ward'!C700+'Ped Ward'!C680+'SNCU '!C735+'NRC '!C707+OT!C715+'M-OT (LaQshya)'!C641+'PP Unit'!C752+ICU!C716+IPD!C664+'Blood Bank'!C653+Lab!C670+'Radiology '!C621+Pharmacy!C613+'Auxillary services'!C642+'Mortuary '!C585+Admin!C883) -> 1
C20: HOSPITAL SCORE
C21: =('Emergency '!B743+OPD!B797+'Labour Room (LaQshya)'!B659+'Maternity Ward'!B705+'Ped Ward'!B685+'SNCU '!B740+'NRC '!B712+OT!B720+'M-OT (LaQshya)'!B646+'PP Unit'!B757+ICU!B721+IPD!B669+'Blood Bank'!B658+Lab!B675+'Radiology '!B626+Pharmacy!B618+'Auxillary services'!B647+'Mortuary '!B590+Admin!B888)/('Emergency '!C743+OPD!C797+'Labour Room (LaQshya)'!C659+'Maternity Ward'!C705+'Ped Ward'!C685+'SNCU '!C740+'NRC '!C712+OT!C720+'M-OT (LaQshya)'!C646+'PP Unit'!C757+ICU!C721+IPD!C669+'Blood Bank'!C658+Lab!C675+'Radiology '!C626+Pharmacy!C618+'Auxillary services'!C647+'Mortuary '!C590+Admin!C888) -> 0.99992601
C22: Clinical Services | D22: Infection Control | E22: Quality Management | F22: Outcome
C23: =('Emergency '!B739+OPD!B793+'Labour Room (LaQshya)'!B655+'Maternity Ward'!B701+'Ped Ward'!B681+'SNCU '!B736+'NRC '!B708+OT!B716+'M-OT (LaQshya)'!B642+'PP Unit'!B753+ICU!B717+IPD!B665+'Blood Bank'!B654+Lab!B671+'Radiology '!B622+Pharmacy!B614+'Auxillary services'!B643+'Mortuary '!B586+Admin!B884)/('Emergency '!C739+OPD!C793+'Labour Room (LaQshya)'!C655+'Maternity Ward'!C701+'Ped Ward'!C681+'SNCU '!C736+'NRC '!C708+OT!C716+'M-OT (LaQshya)'!C642+'PP Unit'!C753+ICU!C717+IPD!C665+'Blood Bank'!C654+Lab!C671+'Radiology '!C622+Pharmacy!C614+'Auxillary services'!C643+'Mortuary '!C586+Admin!C884) -> 1 | D23: =('Emergency '!B740+OPD!B794+'Labour Room (LaQshya)'!B656+'Maternity Ward'!B702+'Ped Ward'!B682+'SNCU '!B737+'NRC '!B709+OT!B717+'M-OT (LaQshya)'!B643+'PP Unit'!B754+ICU!B718+IPD!B666+'Blood Bank'!B655+Lab!B672+'Radiology '!B623+Pharmacy!B615+'Auxillary services'!B644+'Mortuary '!B587+Admin!B885)/('Emergency '!C740+OPD!C794+'Labour Room (LaQshya)'!C656+'Maternity Ward'!C702+'Ped Ward'!C682+'SNCU '!C737+'NRC '!C709+OT!C717+'M-OT (LaQshya)'!C643+'PP Unit'!C754+ICU!C718+IPD!C666+'Blood Bank'!C655+Lab!C672+'Radiology '!C623+Pharmacy!C615+'Auxillary services'!C644+'Mortuary '!C587+Admin!C885) -> 1 | E23: =('Emergency '!B741+OPD!B795+'Labour Room (LaQshya)'!B657+'Maternity Ward'!B703+'Ped Ward'!B683+'SNCU '!B738+'NRC '!B710+OT!B718+'M-OT (LaQshya)'!B644+'PP Unit'!B755+ICU!B719+IPD!B667+'Blood Bank'!B656+Lab!B673+'Radiology '!B624+Pharmacy!B616+'Auxillary services'!B645+'Mortuary '!B588+Admin!B886)/('Emergency '!C741+OPD!C795+'Labour Room (LaQshya)'!C657+'Maternity Ward'!C703+'Ped Ward'!C683+'SNCU '!C738+'NRC '!C710+OT!C718+'M-OT (LaQshya)'!C644+'PP Unit'!C755+ICU!C719+IPD!C667+'Blood Bank'!C656+Lab!C673+'Radiology '!C624+Pharmacy!C616+'Auxillary services'!C645+'Mortuary '!C588+Admin!C886) -> 1 | F23: =('Emergency '!B742+OPD!B796+'Labour Room (LaQshya)'!B658+'Maternity Ward'!B704+'Ped Ward'!B684+'SNCU '!B739+'NRC '!B711+OT!B719+'M-OT (LaQshya)'!B645+'PP Unit'!B756+ICU!B720+IPD!B668+'Blood Bank'!B657+Lab!B674+'Radiology '!B625+Pharmacy!B617+'Auxillary services'!B646+'Mortuary '!B589+Admin!B887)/('Emergency '!C742+OPD!C796+'Labour Room (LaQshya)'!C658+'Maternity Ward'!C704+'Ped Ward'!C684+'SNCU '!C739+'NRC '!C711+OT!C719+'M-OT (LaQshya)'!C645+'PP Unit'!C756+ICU!C720+IPD!C668+'Blood Bank'!C657+Lab!C674+'Radiology '!C625+Pharmacy!C617+'Auxillary services'!C646+'Mortuary '!C589+Admin!C887) -> 1
B28: Reference No | C28: Area of Concern & Standards | H28: NQAS Score | I28: LaQshya Score
C29: Area of Concern A- Service Provision
B30: Standard A1. | C30: Facility Provides Curative Services | H30: =('Emergency '!H44+OPD!H43+'Labour Room (LaQshya)'!H49+'Maternity Ward'!H44+'Ped Ward'!H44+'SNCU '!H43+'NRC '!H44+OT!H44+'M-OT (LaQshya)'!H44+'PP Unit'!H44+ICU!H44+IPD!H44+'Blood Bank'!H44+'Radiology '!H43+Pharmacy!H43+'Mortuary '!H43+Admin!H43)/('Emergency '!I44+OPD!I43+'Labour Room (LaQshya)'!I49+'Maternity Ward'!I44+'Ped Ward'!I44+'SNCU '!I43+'NRC '!I44+OT!I44+'M-OT (LaQshya)'!I44+'PP Unit'!I44+ICU!I44+IPD!I44+'Blood Bank'!I44+'Radiology '!I43+Pharmacy!I43+'Mortuary '!I43+Admin!I43) -> 1 | I30: =('Labour Room (LaQshya)'!H49+'M-OT (LaQshya)'!H44)/('M-OT (LaQshya)'!I44+'Labour Room (LaQshya)'!I49) -> 1
B31: Standard A2 | C31: Facility provides RMNCHA Services | H31: =('Emergency '!H64+OPD!H72+'Labour Room (LaQshya)'!H68+'Maternity Ward'!H63+'Ped Ward'!H64+'SNCU '!H62+'NRC '!H63+OT!H63+'M-OT (LaQshya)'!H63+'PP Unit'!H64+'Blood Bank'!H66+'Radiology '!H63+Admin!H63)/('Emergency '!I64+OPD!I72+'Labour Room (LaQshya)'!I68+'Maternity Ward'!I63+'Ped Ward'!I64+'SNCU '!I62+'NRC '!I63+OT!I63+'M-OT (LaQshya)'!I63+'PP Unit'!I64+'Blood Bank'!I66+'Radiology '!I63+Admin!I63) -> 1 | I31: =('Labour Room (LaQshya)'!H68+'M-OT (LaQshya)'!H63)/('M-OT (LaQshya)'!I63+'Labour Room (LaQshya)'!I68) -> 1
B32: Standard A3. | C32: Facility Provides diagnostic Services | H32: =('Emergency '!H70+OPD!H79+'Labour Room (LaQshya)'!H80+'Maternity Ward'!H73+'SNCU '!H74+'NRC '!H78+OT!H71+'M-OT (LaQshya)'!H70+'PP Unit'!H77+ICU!H69+'Blood Bank'!H72+Lab!H70+'Radiology '!H69+Admin!H71)/('Emergency '!I70+OPD!I79+'Labour Room (LaQshya)'!I80+'Maternity Ward'!I73+'SNCU '!I74+'NRC '!I78+OT!I71+'M-OT (LaQshya)'!I70+'PP Unit'!I77+ICU!I69+'Blood Bank'!I72+Lab!I70+'Radiology '!I69+Admin!I71) -> 1 | I32: =('Labour Room (LaQshya)'!H80+'M-OT (LaQshya)'!H70)/('M-OT (LaQshya)'!I70+'Labour Room (LaQshya)'!I80) -> 1
B33: Standard A4 | C33: Facility provides services as mandated in national Health Programs/ state scheme | H33: =(OPD!H84+'Maternity Ward'!H77+'Ped Ward'!H80+OT!H75+ICU!H74+IPD!H75+'Blood Bank'!H76+Lab!H82+Pharmacy!H74+Admin!H77)/(OPD!I84+'Maternity Ward'!I77+'Ped Ward'!I80+ICU!I74+IPD!I75+'Blood Bank'!I76+Lab!I82+Pharmacy!I74+Admin!I77+OT!I75) -> 1 | I33: NA
B34: Standard A5. | C34: Facility provides support services | H34: =('Emergency '!H88+'NRC '!H95+Pharmacy!H88+'Auxillary services'!H85+'Mortuary '!H85+Admin!H93)/('Emergency '!I88+'NRC '!I95+Pharmacy!I88+'Auxillary services'!I85+'Mortuary '!I85+Admin!I93) -> 1 | I34: NA
B35: Standard A6. | C35: Health services provided at the facility are appropriate to community needs. | H35: =('Emergency '!H97+OPD!H113+IPD!H97+'Blood Bank'!H98+Lab!H105+Admin!H102)/('Emergency '!I97+OPD!I113+IPD!I97+'Blood Bank'!I98+Lab!I105+Admin!I102) -> 1 | I35: NA
C36: Area of Concern B- Patient Rights
B37: Standard B1. | C37: Facility provides the information to care seekers, attendants & community about the available services and their modalities | H37: =('Emergency '!H101+OPD!H117+'Labour Room (LaQshya)'!H110+'Maternity Ward'!H103+'Ped Ward'!H108+'SNCU '!H104+'NRC '!H108+OT!H102+'M-OT (LaQshya)'!H100+'PP Unit'!H107+ICU!H100+IPD!H101+'Blood Bank'!H102+Lab!H109+'Radiology '!H103+Pharmacy!H104+'Auxillary services'!H98+'Mortuary '!H101+Admin!H107)/('Emergency '!I101+OPD!I117+'Labour Room (LaQshya)'!I110+'Maternity Ward'!I103+'Ped Ward'!I108+'SNCU '!I104+'NRC '!I108+OT!I102+'M-OT (LaQshya)'!I100+'PP Unit'!I107+ICU!I100+IPD!I101+'Blood Bank'!I102+Lab!I109+'Radiology '!I103+Pharmacy!I104+'Auxillary services'!I98+'Mortuary '!I101+Admin!I107) -> 1 | I37: =('Labour Room (LaQshya)'!H110+'M-OT (LaQshya)'!H100)/('Labour Room (LaQshya)'!I110+'M-OT (LaQshya)'!I100) -> 1
B38: Standard B2. | C38: Services are delivered in a manner that is sensitive to gender, religious, and cultural needs, and there are no barrier on account of physical economic, cultural or social reasons. | H38: =('Emergency '!H114+OPD!H132+'Labour Room (LaQshya)'!H119+'Maternity Ward'!H117+'Ped Ward'!H119+'NRC '!H122+OT!H114+'M-OT (LaQshya)'!H108+'PP Unit'!H120+ICU!H114+IPD!H115+'Blood Bank'!H114+Lab!H120+'Radiology '!H115+Pharmacy!H116+'Mortuary '!H111+Admin!H137)/('Emergency '!I114+OPD!I132+'Labour Room (LaQshya)'!I119+'Maternity Ward'!I117+'Ped Ward'!I119+'NRC '!I122+OT!I114+'M-OT (LaQshya)'!I108+'PP Unit'!I120+ICU!I114+IPD!I115+'Blood Bank'!I114+Lab!I120+'Radiology '!I115+Pharmacy!I116+'Mortuary '!I111+Admin!I137) -> 1 | I38: =('Labour Room (LaQshya)'!H119+'M-OT (LaQshya)'!H108)/('M-OT (LaQshya)'!I108+('Labour Room (LaQshya)'!I119)) -> 1
B39: Standard B3. | C39: Facility maintains the privacy, confidentiality & Dignity of patient and related information. | H39: =('Emergency '!H130+OPD!H145+'Labour Room (LaQshya)'!H126+'Maternity Ward'!H127+'Ped Ward'!H126+'SNCU '!H125+'NRC '!H128+OT!H121+'M-OT (LaQshya)'!H114+'PP Unit'!H129+ICU!H121+IPD!H128+'Blood Bank'!H120+Lab!H126+'Radiology '!H121+Pharmacy!H122+'Auxillary services'!H113+'Mortuary '!H117+Admin!H161)/('Emergency '!I130+OPD!I145+'Labour Room (LaQshya)'!I126+'Maternity Ward'!I127+'Ped Ward'!I126+'SNCU '!I125+'NRC '!I128+OT!I121+'M-OT (LaQshya)'!I114+'PP Unit'!I129+ICU!I121+IPD!I128+'Blood Bank'!I120+Lab!I126+'Radiology '!I121+Pharmacy!I122+'Auxillary services'!I113+'Mortuary '!I117+Admin!I161) -> 1 | I39: =('Labour Room (LaQshya)'!H126+'M-OT (LaQshya)'!H114)/('M-OT (LaQshya)'!I114+'Labour Room (LaQshya)'!I126) -> 1
B40: Standard B4. | C40: Facility has defined and established procedures for informing and involving patient and their families about treatment and obtaining informed consent wherever it is required. | H40: =('Emergency '!H136+OPD!H152+'Labour Room (LaQshya)'!H136+'Maternity Ward'!H136+'Ped Ward'!H131+'SNCU '!H130+'NRC '!H133+OT!H128+'M-OT (LaQshya)'!H120+'PP Unit'!H138+ICU!H127+IPD!H138+'Blood Bank'!H125+Lab!H131+'Radiology '!H127+Pharmacy!H127+'Auxillary services'!H118+'Mortuary '!H122+Admin!H166)/('Emergency '!I136+OPD!I152+'Labour Room (LaQshya)'!I136+'Maternity Ward'!I136+'Ped Ward'!I131+'SNCU '!I130+'NRC '!I133+OT!I128+'M-OT (LaQshya)'!I120+'PP Unit'!I138+ICU!I127+IPD!I138+'Blood Bank'!I125+Lab!I131+'Radiology '!I127+Pharmacy!I127+'Auxillary services'!I118+'Mortuary '!I122+Admin!I166) -> 1 | I40: =('Labour Room (LaQshya)'!H136+'M-OT (LaQshya)'!H120)/('M-OT (LaQshya)'!I120+'Labour Room (LaQshya)'!I136) -> 1
B41: Standard B5. | C41: Facility ensures that there are no financial barrier to access and that there is financial protection given from cost of care. | H41: =('Emergency '!H142+OPD!H159+'Labour Room (LaQshya)'!H142+'Maternity Ward'!H142+'Ped Ward'!H137+'SNCU '!H137+'NRC '!H140+OT!H135+'M-OT (LaQshya)'!H127+'PP Unit'!H146+ICU!H134+IPD!H144+'Blood Bank'!H132+Lab!H137+'Radiology '!H133+Pharmacy!H133+'Auxillary services'!H124+Admin!H179)/('Emergency '!I142+OPD!I159+'Labour Room (LaQshya)'!I142+'Maternity Ward'!I142+'Ped Ward'!I137+'SNCU '!I137+'NRC '!I140+OT!I135+'M-OT (LaQshya)'!I127+'PP Unit'!I146+ICU!I134+IPD!I144+'Blood Bank'!I132+Lab!I137+'Radiology '!I133+Pharmacy!I133+'Auxillary services'!I124+Admin!I179) -> 1 | I41: =('Labour Room (LaQshya)'!H142+'M-OT (LaQshya)'!H127)/('M-OT (LaQshya)'!I127+'Labour Room (LaQshya)'!I142) -> 1
B42: Standard B6 | C42: Facility has defined framework for ethical management including dilemmas confronted during delivery of services at public health facilities | H42: =('Emergency '!H149+'Maternity Ward'!H156+'Ped Ward'!H151+'SNCU '!H151+'NRC '!H155+'PP Unit'!H155+ICU!H141+IPD!H152+Admin!H191)/('Emergency '!I149+'Maternity Ward'!I156+'Ped Ward'!I151+'SNCU '!I151+'NRC '!I155+'PP Unit'!I155+ICU!I141+IPD!I152+Admin!I191) -> 1 | I42: NA
C43: Area of Concern C - Inputs
B44: Standard C1. | C44: The facility has infrastructure for delivery of assured services, and available infrastructure meets the prevalent norms | H44: =('Emergency '!H164+OPD!H179+'Labour Room (LaQshya)'!H161+'Maternity Ward'!H169+'Ped Ward'!H164+'SNCU '!H165+'NRC '!H168+OT!H156+'M-OT (LaQshya)'!H147+'PP Unit'!H168+ICU!H156+IPD!H165+'Blood Bank'!H152+Lab!H158+'Radiology '!H153+Pharmacy!H154+'Auxillary services'!H144+'Mortuary '!H148+Admin!H204)/('Emergency '!I164+OPD!I179+'Labour Room (LaQshya)'!I161+'Maternity Ward'!I169+'Ped Ward'!I164+'SNCU '!I165+'NRC '!I168+OT!I156+'M-OT (LaQshya)'!I147+'PP Unit'!I168+ICU!I156+IPD!I165+'Blood Bank'!I152+Lab!I158+'Radiology '!I153+Pharmacy!I154+'Auxillary services'!I144+'Mortuary '!I148+Admin!I204) -> 1 | I44: =('Labour Room (LaQshya)'!H161+'M-OT (LaQshya)'!H147)/('M-OT (LaQshya)'!I147+'Labour Room (LaQshya)'!I161) -> 1
B45: Standard C2. | C45: The facility ensures the physical safety of the infrastructure. | H45: =('Emergency '!H193+OPD!H204+'Labour Room (LaQshya)'!H176+'Maternity Ward'!H194+'Ped Ward'!H186+'SNCU '!H192+'NRC '!H190+OT!H181+'M-OT (LaQshya)'!H164+'PP Unit'!H191+ICU!H175+IPD!H188+'Blood Bank'!H168+Lab!H174+'Radiology '!H166+Pharmacy!H169+'Auxillary services'!H159+'Mortuary '!H165+Admin!H233)/('Emergency '!I193+OPD!I204+'Labour Room (LaQshya)'!I176+'Maternity Ward'!I194+'Ped Ward'!I186+'SNCU '!I192+'NRC '!I190+OT!I181+'M-OT (LaQshya)'!I164+'PP Unit'!I191+ICU!I175+IPD!I188+'Blood Bank'!I168+Lab!I174+'Radiology '!I166+Pharmacy!I169+'Auxillary services'!I159+'Mortuary '!I165+Admin!I233) -> 1 | I45: =('Labour Room (LaQshya)'!H176+'M-OT (LaQshya)'!H164)/('M-OT (LaQshya)'!I164+'Labour Room (LaQshya)'!I176) -> 1
B46: Standard C3. | C46: The facility has established Programme for fire safety and other disaster | H46: =('Emergency '!H199+OPD!H210+'Labour Room (LaQshya)'!H181+'Maternity Ward'!H200+'Ped Ward'!H192+'SNCU '!H207+'NRC '!H196+OT!H188+'M-OT (LaQshya)'!H171+'PP Unit'!H198+ICU!H186+IPD!H194+'Blood Bank'!H176+Lab!H182+'Radiology '!H175+Pharmacy!H176+'Auxillary services'!H165+'Mortuary '!H172+Admin!H256)/('Emergency '!I199+OPD!I210+'Labour Room (LaQshya)'!I181+'Maternity Ward'!I200+'Ped Ward'!I192+'SNCU '!I207+'NRC '!I196+OT!I188+'M-OT (LaQshya)'!I171+'PP Unit'!I198+ICU!I186+IPD!I194+'Blood Bank'!I176+Lab!I182+'Radiology '!I175+Pharmacy!I176+'Auxillary services'!I165+'Mortuary '!I172+Admin!I256) -> 0.99509804 | I46: =('Labour Room (LaQshya)'!H181+'M-OT (LaQshya)'!H171)/('M-OT (LaQshya)'!I171+'Labour Room (LaQshya)'!I181) -> 1
B47: Standard C4. | C47: The facility has adequate qualified and trained staff, required for providing the assured services to the current case load | H47: =('Emergency '!H205+OPD!H216+'Labour Room (LaQshya)'!H185+'Maternity Ward'!H206+'Ped Ward'!H198+'SNCU '!H215+'NRC '!H202+OT!H194+'M-OT (LaQshya)'!H175+'PP Unit'!H204+ICU!H194+IPD!H200+'Blood Bank'!H183+Lab!H189+'Radiology '!H181+Pharmacy!H183+'Auxillary services'!H172+'Mortuary '!H177+Admin!H267)/('Emergency '!I205+OPD!I216+'Labour Room (LaQshya)'!I185+'Maternity Ward'!I206+'Ped Ward'!I198+'SNCU '!I215+'NRC '!I202+OT!I194+'M-OT (LaQshya)'!I175+'PP Unit'!I204+ICU!I194+IPD!I200+'Blood Bank'!I183+Lab!I189+'Radiology '!I181+Pharmacy!I183+'Auxillary services'!I172+'Mortuary '!I177+Admin!I267) -> 1 | I47: =('Labour Room (LaQshya)'!H185+'M-OT (LaQshya)'!H175)/('M-OT (LaQshya)'!I175+'Labour Room (LaQshya)'!I185) -> 1
B48: Standard C5. | C48: Facility provides drugs and consumables required for assured list of services. | H48: =('Emergency '!H214+OPD!H233+'Labour Room (LaQshya)'!H192+'Maternity Ward'!H214+'Ped Ward'!H205+'SNCU '!H223+'NRC '!H212+OT!H207+'M-OT (LaQshya)'!H182+'PP Unit'!H212+ICU!H202+IPD!H207+'Blood Bank'!H190+Lab!H198+'Radiology '!H189+Pharmacy!H189+'Auxillary services'!H181+'Mortuary '!H184+Admin!H301)/('Emergency '!I214+OPD!I233+'Labour Room (LaQshya)'!I192+'Maternity Ward'!I214+'Ped Ward'!I205+'SNCU '!I223+'NRC '!I212+OT!I207+'M-OT (LaQshya)'!I182+'PP Unit'!I212+ICU!I202+IPD!I207+'Blood Bank'!I190+Lab!I198+'Radiology '!I189+Pharmacy!I189+'Auxillary services'!I181+'Mortuary '!I184+Admin!I301) -> 1 | I48: =('Labour Room (LaQshya)'!H192+'M-OT (LaQshya)'!H182)/('M-OT (LaQshya)'!I182+'Labour Room (LaQshya)'!I192) -> 1
B49: Standard C6. | C49: The facility has equipment & instruments required for assured list of services. | H49: =('Emergency '!H232+OPD!H239+'Labour Room (LaQshya)'!H201+'Maternity Ward'!H227+'Ped Ward'!H215+'SNCU '!H235+'NRC '!H223+OT!H223+'M-OT (LaQshya)'!H194+'PP Unit'!H224+ICU!H215+IPD!H221+'Blood Bank'!H195+Lab!H205+'Radiology '!H194+Pharmacy!H211+'Auxillary services'!H186+'Mortuary '!H189+Admin!H305)/('Emergency '!I232+OPD!I239+'Labour Room (LaQshya)'!I201+'Maternity Ward'!I227+'Ped Ward'!I215+'SNCU '!I235+'NRC '!I223+OT!I223+'M-OT (LaQshya)'!I194+'PP Unit'!I224+ICU!I215+IPD!I221+'Blood Bank'!I195+Lab!I205+'Radiology '!I194+Pharmacy!I211+'Auxillary services'!I186+'Mortuary '!I189+Admin!I305) -> 1 | I49: =('Labour Room (LaQshya)'!H201+'M-OT (LaQshya)'!H194)/('M-OT (LaQshya)'!I194+'Labour Room (LaQshya)'!I201) -> 1
B50: Standard C7 | C50: Facility has a defined and established procedure for effective utilization, evaluation and augmentation of competence and performance of staff | H50: =('Emergency '!H248+OPD!H254+'Labour Room (LaQshya)'!H216+'Maternity Ward'!H239+'Ped Ward'!H227+'SNCU '!H248+'NRC '!H237+OT!H243+'M-OT (LaQshya)'!H208+'PP Unit'!H244+ICU!H228+IPD!H233+'Blood Bank'!H207+Lab!H222+'Radiology '!H209+Pharmacy!H219+'Auxillary services'!H199+'Mortuary '!H200+Admin!H315)/('Emergency '!I248+OPD!I254+'Labour Room (LaQshya)'!I216+'Maternity Ward'!I239+'Ped Ward'!I227+'SNCU '!I248+'NRC '!I237+OT!I243+'M-OT (LaQshya)'!I208+'PP Unit'!I244+ICU!I228+IPD!I233+'Blood Bank'!I207+Lab!I222+'Radiology '!I209+Pharmacy!I219+'Auxillary services'!I199+'Mortuary '!I200+Admin!I315) -> 1 | I50: =('Labour Room (LaQshya)'!H216+'M-OT (LaQshya)'!H208)/('M-OT (LaQshya)'!I208+'Labour Room (LaQshya)'!I216) -> 1
...

Sheet Emergency 
A1: National Quality Assurance Standards for District Hospitals | G1: Version: DH/02/19
A2: Emergency Score Card | G2: NA Switch
A3: Checklist for Accident & Emergency | H3: 1
A4: Assessment Summary
A5: Name of the Hospital | F5: Date of Assessment
A6: Names of Assessors | F6: Names of Assessees
A7: Type of Assessment (Internal/External) | F7: Action plan Submission Date
A8: Accident & Emergency Score Card
A9: Area of Concern wise Score | F9: Accident & Emergency Score
A10: A | B10: Service Provision | C10: ='Emergency '!D735 -> 1 | F10: =D743 -> 1
A11: B | B11: Patient Rights | C11: ='Emergency '!D736 -> 1
A12: C | B12: Inputs | C12: ='Emergency '!D737 -> 1
A13: D | B13: Support Services | C13: ='Emergency '!D738 -> 1
A14: E | B14: Clinical Services | C14: ='Emergency '!D739 -> 1
A15: F | B15: Infection Control | C15: ='Emergency '!D740 -> 1
A16: G | B16: Quality Manangement | C16: ='Emergency '!D741 -> 1
A17: H | B17: Outcome | C17: ='Emergency '!D742 -> 1
B19: Major Gaps Observed
A20: 1
A21: 2
A22: 3
A23: 4
A24: 5
B25: Strengths / Good Practices
A26: 1
A27: 2
A28: 3
A29: 4
A30: 5
B31: Recommendations/ Opportunites for Improvement
A32: 1
A33: 2
A34: 3
A35: 4
A36: 5
B37: Signature of Assessors
B38: Date
A41: Checklist for Accident & Emergency
A42: Reference No. | B42: Measurable Element | C42: Checkpoint | D42: Compliance | E42: Assessment Method | F42: Means of Verification | G42: Remarks | H42: obt | I42: Max
B43: Area of Concern - A Service Provision | H43: =H44+H64+H70+H75+H88+H97 -> 42 | I43: =I44+I64+I70+I75+I88+I97 -> 42
...

Sheet OPD
A1: National Quality Assurance Standards for District Hospitals | G1: Version: DH/02/19
A2: Checklist for Outdoor Patient Department | H2: 2
A3: Assessment Summary
A4: Name of the Hospital | F4: Date of Assessment
A5: Names of Assessors | F5: Names of Assessees
A6: Type of Assessment (Internal/External) | F6: Action plan Submission Date
A7: OPD Score Card
B8: Area of Concern wise Score | F8: OPD Score
A9: A | B9: Service Provision | C9: =OPD!D789 -> 1 | F9: =D797 -> 1
A10: B | B10: Patient Rights | C10: =OPD!D790 -> 1
A11: C | B11: Inputs | C11: =OPD!D791 -> 1
A12: D | B12: Support Services | C12: =OPD!D792 -> 1
A13: E | B13: Clinical Services | C13: =OPD!D793 -> 1
A14: F | B14: Infection Control | C14: =OPD!D794 -> 1
A15: G | B15: Quality Management | C15: =OPD!D795 -> 1
A16: H | B16: Outcome | C16: =OPD!D796 -> 1
B18: Major Gaps Observed
A19: 1
A20: 2
A21: 3
A22: 4
A23: 5
B24: Strengths / Good Practices
A25: 1
A26: 2
A27: 3
A28: 4
A29: 5
B30: Recommendations/ Opportunites for Improvement
A31: 1
A32: 2
A33: 3
A34: 4
A35: 5
B36: Signature of Assessors
B37: Date
A40: Checklist for OPD
A41: Reference No. | B41: Measurable Element | C41: Checkpoint | D41: Compliance | E41: Assessment Method | F41: Means of Verification | G41: Remarks | H41: Obtained | I41: Maximum
B42: Area of Concern - A Service Provision | H42: =H43+H72+H79+H84+H113+H104 -> 102 | I42: =I43+I72+I79+I84+I113+I104 -> 102
A43: Standard A1 | B43: Facility Provides Curative Services | H43: =SUM(D44:D71) -> 50 | I43: =COUNT(D44:D71)*2 -> 50
...

Sheet Labour Room (LaQshya)
A1: National Quality Assurance Standards | G1: Version: DH/02/19
A2: Checklist for Labour Room | H2: 3
A10: Assessment Summary
A11: Name of the Hospital | F11: Date of Assessment
A12: Names of Assessors | F12: Names of Assessees
A13: Type of Assessment (Internal/Peer/External) | F13: Action plan Submission Date
A14: Labour room Score Card
A15: Area of Concern wise Score | F15: Labour Room Score
A16: A | B16: Service Provision | C16: ='Labour Room (LaQshya)'!D651 -> 1 | F16: =D659 -> 1
A17: B | B17: Patient Rights | C17: ='Labour Room (LaQshya)'!D652 -> 1
A18: C | B18: Inputs | C18: ='Labour Room (LaQshya)'!D653 -> 1
A19: D | B19: Support Services | C19: ='Labour Room (LaQshya)'!D654 -> 1
A20: E | B20: Clinical Services | C20: ='Labour Room (LaQshya)'!D655 -> 1
A21: F | B21: Infection Control | C21: ='Labour Room (LaQshya)'!D656 -> 1
A22: G | B22: Quality Management | C22: ='Labour Room (LaQshya)'!D657 -> 1
A23: H | B23: Outcome | C23: ='Labour Room (LaQshya)'!D658 -> 1
B25: Major Gaps Observed
A26: 1
A27: 2
A28: 3
A29: 4
A30: 5
B31: Strengths / Good Practices
A32: 1
A33: 2
A34: 3
A35: 4
A36: 5
B37: Recommendations/ Opportunities for Improvement
A38: 1
A39: 2
A40: 3
A41: 4
A42: 5
B43: Signature of Assessors
B44: Date
A46: Checklist for Labour Room
A47: Reference No | B47: Measurable Element | C47: Checkpoint | D47: Compliance | E47: Assessment Method | F47: Means of Verification | G47: Remarks | H47: Obtained | I47: Maximum | J47: %
B48: Area of Concern - A Service Provision | H48: =H49+H68+H80+H84+H97+H106 -> 22 | I48: =I49+I68+I80+I84+I97+I106 -> 22 | J48: =H48*100/I48 -> 100
A49: Standard A1 | B49: The facility provides Curative Services | H49: =SUM(D50:D67) -> 2 | I49: =COUNT(D50:D67)*2 -> 2 | J49: =H49*100/I49 -> 100
...

Sheet Maternity Ward
A1: National Quality Assurance Standards for District Hospitals | G1: Version: DH/02/19
A2: Checklist for Maternity Ward | H2: 4
A3: Assessment Summary
A4: Name of the Hospital | F4: Date of Assessment
A5: Names of Assessors | F5: Names of Assessees
A6: Type of Assessment (Internal/External) | F6: Action plan Submission Date
A7: Maternity Ward Score Card
B8: Area of Concern wise Score | D8: Maternity Ward Score
A9: A | B9: Service Provision | C9: ='Maternity Ward'!D697 -> 1 | D9: =D705 -> 1
A10: B | B10: Patient Rights | C10: ='Maternity Ward'!D698 -> 1
A11: C | B11: Inputs | C11: ='Maternity Ward'!D699 -> 1
A12: D | B12: Support Services | C12: ='Maternity Ward'!D700 -> 1
A13: E | B13: Clinical Services | C13: ='Maternity Ward'!D701 -> 1
A14: F | B14: Infection Control | C14: ='Maternity Ward'!D702 -> 1
A15: G | B15: Quality Management | C15: ='Maternity Ward'!D703 -> 1
A16: H | B16: Outcome | C16: ='Maternity Ward'!D704 -> 1
B18: Major Gaps Observed
A19: 1
A20: 2
A21: 3
A22: 4
A23: 5
B24: Strengths / Good Practices
A25: 1
A26: 2
A27: 3
A28: 4
A29: 5
B30: Recommendations/ Opportunites for Improvement
A31: 1
A32: 2
A33: 3
A34: 4
A35: 5
B36: Signature of Assessors
B37: Date
A41: Checklist for Maternity Ward
A42: Reference no | B42: Measurable Element | C42: Checkpoints | D42: Compliance | E42: Assessment method | F42: Means of verification | G42: Remarks | H42: Obtained Marks | I42: Maximum Marks
B43: Area of Concern - A Service Provision | H43: =H44+H63+H73+H77+H90+H99 -> 28 | I43: =I44+I63+I73+I77+ I90+I99 -> 28
A44: Standard A1 | B44: The facility provides Curative Services | H44: =SUM(D45:D62) -> 6 | I44: =COUNT(D45:D62)*2 -> 6
...

Sheet Ped Ward
A1: National Quality Assurance Standards for District Hospitals | G1: Version: DH/02/19
A2: Checklist for Paediatrics Ward | H2: 5
A3: Assessment Summary
A4: Name of the Hospital | F4: Date of Assessment
A5: Names of Assessors | F5: Names of Assessees
A6: Type of Assessment (Internal/External) | F6: Action plan Submission Date
A7: Paediatrics Ward Score Card
A8: Area of Concern wise Score | D8: Paediatrics Ward Score
A9: A | B9: Service Provision | C9: ='Ped Ward'!D677 -> 1 | D9: =D685 -> 1
A10: B | B10: Patient Rights | C10: ='Ped Ward'!D678 -> 1
A11: C | B11: Inputs | C11: ='Ped Ward'!D679 -> 1
A12: D | B12: Support Services | C12: ='Ped Ward'!D680 -> 1
A13: E | B13: Clinical Services | C13: ='Ped Ward'!D681 -> 1
A14: F | B14: Infection Control | C14: ='Ped Ward'!D682 -> 1
A15: G | B15: Quality Management | C15: ='Ped Ward'!D683 -> 1
A16: H | B16: Outcome | C16: ='Ped Ward'!D685 -> 1
B18: Major Gaps Observed
A19: 1
A20: 2
A21: 3
A22: 4
A23: 5
B24: Strengths / Good Practices
A25: 1
A26: 2
A27: 3
A28: 4
A29: 5
B30: Recommendations/ Opportunites for Improvement
A31: 1
A32: 2
A33: 3
A34: 4
A35: 5
B36: Signature of Assessors
B37: Date
A41: Checklist for Paediatrics Ward
A42: Reference No. | B42: Measurable Element | C42: Checkpoint | D42: Compliance Full/Partial/No | E42: Assessment Method | F42: Means of verification | G42: Remarks
B43: Area of Concern - A Service Provision | H43: =H44+H64+H80+H76+H95+H104 -> 32 | I43: =I44+I64+I80+I76+I95+I104 -> 32
A44: Standard A1 | B44: The facility provides Curative Services | H44: =SUM(D45:D63) -> 6 | I44: =COUNT(D45:D63)*2 -> 6
...

Sheet SNCU 
A1: National Quality Assurance Standards for District Hospitals | G1: Version: DH/02/19
A2: Checklist for Sick Newborn Care Unit (SNCU) | H2: 6
A3: Assessment Summary
A4: Name of the Hospital | F4: Date of Assessment
A5: Names of Assessors | F5: Names of Assessees
A6: Type of Assessment (Internal/External) | F6: Action plan Submission Date
A7: SNCU Score Card
A8: Area of Concern wise Score | D8: SNCU Score
A9: A | B9: Service Provision | C9: ='SNCU '!D732 -> 1 | D9: =D740 -> 1
A10: B | B10: Patient Rights | C10: ='SNCU '!D733 -> 1
A11: C | B11: Inputs | C11: ='SNCU '!D734 -> 1
A12: D | B12: Support Services | C12: ='SNCU '!D735 -> 1
A13: E | B13: Clinical Services | C13: ='SNCU '!D736 -> 1
A14: F | B14: Infection Control | C14: ='SNCU '!D737 -> 1
A15: G | B15: Quality Management | C15: ='SNCU '!D738 -> 1
A16: H | B16: Outcome | C16: ='SNCU '!D739 -> 1
B18: Major Gaps Observed
A19: 1
A20: 2
A21: 3
A22: 4
A23: 5
B24: Strengths / Good Practices
A25: 1
A26: 2
A27: 3
A28: 4
A29: 5
B30: Recommendations/ Opportunites for Improvement
A31: 1
A32: 2
A33: 3
A34: 4
A35: 5
B36: Signature of Assessors
B37: Date
A41: Reference | B41: ME Statement | C41: Checkpoint | D41: Compliance/Full/ Partial/No | E41: Assessment Method | F41: Means of verification | G41: Remarks
B42: Area of Concern - A Service Provision | H42: =H43+H62+H74+ H78+H91+H100 -> 26 | I42: =I43+I62+I74+I78+I91+I100 -> 26
A43: Standard A1 | B43: Facility Provides Curative Services | H43: =SUM(D44:D61) -> 4 | I43: =COUNT(D44:D61)*2 -> 4
A44: ME A1.1 | B44: The Facility Provides of General Medicine Services
...

Sheet NRC 
A1: National Quality Assurance Standards for District Hospitals | G1: Version: DH/02/19
A2: Checklist for Nutrition Rehabilitation Center (NRC) | H2: 7
A3: Assessment Summary
A4: Name of the Hospital | F4: Date of Assessment
A5: Names of Assessors | F5: Names of Assessees
A6: Type of Assessment (Internal/External) | F6: Action plan Submission Date
A7: NRC Score Card
A8: Area of Concern wise Score | D8: NRC Score
A9: A | B9: Service Provision | C9: ='NRC '!D704 -> 1 | D9: =D712 -> 1
A10: B | B10: Patient Rights | C10: ='NRC '!D705 -> 1
A11: C | B11: Inputs | C11: ='NRC '!D706 -> 1
A12: D | B12: Support Services | C12: ='NRC '!D707 -> 1
A13: E | B13: Clinical Services | C13: ='NRC '!D708 -> 1
A14: F | B14: Infection Control | C14: ='NRC '!D709 -> 1
A15: G | B15: Quality Management | C15: ='NRC '!D710 -> 1
A16: H | B16: Outcome | C16: ='NRC '!D711 -> 1
B18: Major Gaps Observed
A19: 1
A20: 2
A21: 3
A22: 4
A23: 5
B24: Strengths / Good Practices
A25: 1
A26: 2
A27: 3
A28: 4
A29: 5
B30: Recommendations/ Opportunites for Improvement
A31: 1
A32: 2
A33: 3
A34: 4
A35: 5
B36: Signature of Assessors
B37: Date
A41: Checklist for NRC
A42: Reference no. | B42: Measurable Elements | C42: Checkpoint | D42: Compliance/Full/ Partial/No | E42: Assessment Method | F42: Means of verification | G42: Remarks
B43: Area of Concern - A Service Provision | H43: =H44+H63+H78+H95+H82+H104 -> 28 | I43: =I44+I63+I78+I95+I82+I104 -> 28
A44: Standard A1 | B44: Facility Provides Curative Services | H44: =SUM(D45:D62) -> 4 | I44: =COUNT(D45:D62)*2 -> 4
...

Sheet OT
A1: National Quality Assurance Standards for District Hospitals | G1: Version: DH/02/19
A2: Checklist for Operation Theatre | H2: 8
A3: Assessment Summary
A4: Name of the Hospital | F4: Date of Assessment
A5: Names of Assessors | F5: Names of Assessees
A6: Type of Assessment (Internal/External) | F6: Action plan Submission Date
A7: Operation Theatre Score Card
A8: Area of Concern wise Score | D8: Operation Theatre Score
A9: A | B9: Service Provision | C9: =OT!D712 -> 1 | D9: =D720 -> 1
A10: B | B10: Patient Rights | C10: =OT!D713 -> 1
A11: C | B11: Inputs | C11: =OT!D714 -> 1
A12: D | B12: Support Services | C12: =OT!D715 -> 1
A13: E | B13: Clinical Services | C13: =OT!D716 -> 1
A14: F | B14: Infection Control | C14: =OT!D717 -> 1
A15: G | B15: Quality Management | C15: =OT!D718 -> 1
A16: H | B16: Outcome | C16: =OT!D719 -> 1
B18: Major Gaps Observed
A19: 1
A20: 2
A21: 3
A22: 4
A23: 5
B24: Strengths / Good Practices
A25: 1
A26: 2
A27: 3
A28: 4
A29: 5
B30: Recommendations/ Opportunites for Improvement
A31: 1
A32: 2
A33: 3
A34: 4
A35: 5
B36: Signature of Assessors
B37: Date
A41: Checklist for Operation Theatre
A42: Reference No. | B42: ME Statement | C42: Checkpoint | D42: Compliance | E42: Assessment Method | F42: Means of Verification | G42: Remarks
B43: Area of Concern - A Service Provision | H43: =H44+H63+H71+H75+H89+H98 -> 38 | I43: =I44+I63+I71+I75+I89+I98 -> 38
A44: Standard A1 | B44: Facility Provides Curative Services | H44: =SUM(D45:D62) -> 18 | I44: =COUNT(D45:D62)*2 -> 18
...

Sheet M-OT (LaQshya)
A1: National Quality Assurance Standards | G1: Version: DH/02/19
A2: Checklist for Maternity Operation Theatre | H2: 9
A3: Assessment Summary
A4: Name of the Hospital | F4: Date of Assessment
A5: Names of Assessors | F5: Names of Assesses
A6: Type of Assessment (Internal/External) | F6: Action plan Submission Date
A7: Operation Theatre Score Card
A8: Area of Concern wise Score | D8: Operation Theatre Score
A9: A | B9: Service Provision | C9: ='M-OT (LaQshya)'!D638 -> 1 | D9: =D646 -> 1
A10: B | B10: Patient Rights | C10: ='M-OT (LaQshya)'!D639 -> 1
A11: C | B11: Inputs | C11: ='M-OT (LaQshya)'!D640 -> 1
A12: D | B12: Support Services | C12: ='M-OT (LaQshya)'!D641 -> 1
A13: E | B13: Clinical Services | C13: ='M-OT (LaQshya)'!D642 -> 1
A14: F | B14: Infection Control | C14: ='M-OT (LaQshya)'!D643 -> 1
A15: G | B15: Quality Management | C15: ='M-OT (LaQshya)'!D644 -> 1
A16: H | B16: Outcome | C16: ='M-OT (LaQshya)'!D645 -> 1
B18: Major Gaps Observed
A19: 1
A20: 2
A21: 3
A22: 4
A23: 5
B24: Strengths / Good Practices
A25: 1
A26: 2
A27: 3
A28: 4
A29: 5
B30: Recommendations/ Opportunities for Improvement
A31: 1
A32: 2
A33: 3
A34: 4
A35: 5
B36: Signature of Assessors
B37: Date
A41: Checklist for Operation Theatre
A42: Reference No. | B42: ME Statement | C42: Checkpoint | D42: Compliance | E42: Assessment Method | F42: Means of Verification | G42: Remarks | J42: %
B43: Area of Concern - A Service Provision | H43: =H44+H63+H70+H74+H87+H96 -> 18 | I43: =I44+I63+I70+I74+I87+I96 -> 18 | J43: =H43*100/I43 -> 100
A44: Standard A1 | B44: Facility Provides Curative Services | H44: =SUM(D45:D62) -> 6 | I44: =COUNT(D45:D62)*2 -> 6 | J44: =H44*100/I44 -> 100
...

Sheet PP Unit
A1: National Quality Assurance Standards for District Hospitals | G1: Version: DH/02/19
A2: Checklist for Post Partum Unit | H2: 10
A3: Assessment Summary
A4: Name of the Hospital | F4: Date of Assessment
A5: Names of Assessors | F5: Names of Assessees
A6: Type of Assessment (Internal/External) | F6: Action plan Submission Date
A7: Post Partum Unit Score Card
A8: Area of Concern wise Score | D8: Post Partum Unit Score
A9: A | B9: Service Provision | C9: ='PP Unit'!D749 -> 1 | D9: =D757 -> 1
A10: B | B10: Patient Rights | C10: ='PP Unit'!D750 -> 1
A11: C | B11: Inputs | C11: ='PP Unit'!D751 -> 1
A12: D | B12: Support Services | C12: ='PP Unit'!D752 -> 1
A13: E | B13: Clinical Services | C13: ='PP Unit'!D753 -> 1
A14: F | B14: Infection Control | C14: ='PP Unit'!D754 -> 1
A15: G | B15: Quality Management | C15: ='PP Unit'!D755 -> 1
A16: H | B16: Outcome | C16: ='PP Unit'!D756 -> 1
B18: Major Gaps Observed
A19: 1
A20: 2
A21: 3
A22: 4
A23: 5
B24: Strengths / Good Practices
A25: 1
A26: 2
A27: 3
A28: 4
A29: 5
B30: Recommendations/ Opportunites for Improvement
A31: 1
A32: 2
A33: 3
A34: 4
A35: 5
B36: Signature of Assessors
B37: Date
A41: Checklist for Post Partum Unit
A42: Reference No | B42: ME Statement | C42: Checkpoint | D42: Compliance | E42: Assessment Method | F42: Means of Verification | G42: Remarks
B43: Area of Concern - A Service Provision | H43: =H44+H64+H77+H81+H94+H103 -> 28 | I43: =I44+I64+I77+I81+I94+I103 -> 28
A44: Standard A1 | B44: Facility Provides Curative Services | H44: =SUM(D45:D63) -> 4 | I44: =COUNT(D45:D63)*2 -> 4
...

Sheet ICU
A1: National Quality Assurance Standards for District Hospitals | G1: Version: DH/02/19
A2: Checklist for Intensive Care Unit | H2: 11
A3: Assessment Summary
A4: Name of the Hospital | F4: Date of Assessment
A5: Names of Assessors | F5: Names of Assessees
A6: Type of Assessment (Internal/External) | F6: Action plan Submission Date
A7: Intensive Care Unit Score Card
A8: Area of Concern wise Score | D8: Intensive Care Unit Score
A9: A | B9: Service Provision | C9: =ICU!D713 -> 1 | D9: =D721 -> 1
A10: B | B10: Patient Rights | C10: =ICU!D714 -> 1
A11: C | B11: Inputs | C11: =ICU!D715 -> 1
A12: D | B12: Support Services | C12: =ICU!D716 -> 1
A13: E | B13: Clinical Services | C13: =ICU!D717 -> 1
A14: F | B14: Infection Control | C14: =ICU!D718 -> 1
A15: G | B15: Quality Management | C15: =ICU!D719 -> 1
A16: H | B16: Outcome | C16: =ICU!D720 -> 1
B18: Major Gaps Observed
A19: 1
A20: 2
A21: 3
A22: 4
A23: 5
B24: Strengths / Good Practices
A25: 1
A26: 2
A27: 3
A28: 4
A29: 5
B30: Recommendations/ Opportunites for Improvement
A31: 1
A32: 2
A33: 3
A34: 4
A35: 5
B36: Signature of Assessors
B37: Date
A41: Checklist for Intensive Care Unit
A42: Reference No | B42: ME Statement | C42: Checkpoint | D42: Compliance Full/Partial/No | E42: Assessment Method | F42: Means of Verification | G42: Remarks
B43: Area of Concern - A Service Provision | H43: =H44+H69+H74+H63+H87+H96 -> 20 | I43: =I44+I69+I74+I63+I96 -> 20
A44: Standard A1 | B44: Facility Provides Curative Services | H44: =SUM(D45:D62) -> 10 | I44: =COUNT(D45:D62)*2 -> 10
...

Sheet IPD
A1: National Quality Assurance Standards for District Hospitals | G1: Version: DH/02/19
A2: Checklist for Indoor Patient Department | H2: 12
A3: Assessment Summary
A4: Name of the Hospital | F4: Date of Assessment
A5: Names of Assessors | F5: Names of Assessees
A6: Type of Assessment (Internal/External) | F6: Action plan Submission Date
A7: Indoor Patient Department Score Card
A8: Area of Concern wise Score | D8: IPD Score
A9: A | B9: Service Provision | C9: =IPD!D661 -> 1 | D9: =D669 -> 1
A10: B | B10: Patient Rights | C10: =IPD!D662 -> 1
A11: C | B11: Inputs | C11: =IPD!D663 -> 1
A12: D | B12: Support Services | C12: =IPD!D664 -> 1
A13: E | B13: Clinical Services | C13: =IPD!D665 -> 1
A14: F | B14: Infection Control | C14: =IPD!D666 -> 1
A15: G | B15: Quality Management | C15: =IPD!D667 -> 1
A16: H | B16: Outcome | C16: =IPD!D668 -> 1
B18: Major Gaps Observed
A19: 1
A20: 2
A21: 3
A22: 4
A23: 5
B24: Strengths / Good Practices
A25: 1
A26: 2
A27: 3
A28: 4
A29: 5
B30: Recommendations/ Opportunites for Improvement
A31: 1
A32: 2
A33: 3
A34: 4
A35: 5
B36: Signature of Assessors
B37: Date
A41: Checklist for IPD
A42: Reference No/ | B42: ME Statement | C42: Checkpoints | D42: Compliance | E42: Assessment Method | F42: Means of verification | G42: Remarks
B43: Area of Concern - A Service Provision | H43: =H44+H75+H97+H65+H71+H88 -> 36 | I43: =I44+I75+I97+I65+I71+I88 -> 36
A44: Standard A1 | B44: The facility provides Curative Services | H44: =SUM(D45:D64) -> 22 | I44: =COUNT(D45:D64)*2 -> 22
...

Sheet Blood Bank
A1: National Quality Assurance Standards for District Hospitals | G1: Version: DH/02/19
A2: Checklist for Blood Bank | H2: 13
A3: Assessment Summary
A4: Name of the Hospital | F4: Date of Assessment
A5: Names of Assessors | F5: Names of Assessees
A6: Type of Assessment (Internal/External) | F6: Action plan Submission Date
A7: Blood Bank Score Card
A8: Area of Concern wise Score | D8: Blood Bank Score
A9: A | B9: Service Provision | C9: ='Blood Bank'!D650 -> 1 | D9: =D658 -> 1
A10: B | B10: Patient Rights | C10: ='Blood Bank'!D651 -> 1
A11: C | B11: Inputs | C11: ='Blood Bank'!D652 -> 1
A12: D | B12: Support Services | C12: ='Blood Bank'!D653 -> 1
A13: E | B13: Clinical Services | C13: ='Blood Bank'!D654 -> 1
A14: F | B14: Infection Control | C14: ='Blood Bank'!D655 -> 1
A15: G | B15: Quality Management | C15: ='Blood Bank'!D656 -> 1
A16: H | B16: Outcome | C16: ='Blood Bank'!D657 -> 1
B18: Major Gaps Observed
A19: 1
A20: 2
A21: 3
A22: 4
A23: 5
B24: Strengths / Good Practices
A25: 1
A26: 2
A27: 3
A28: 4
A29: 5
B30: Recommendations/ Opportunites for Improvement
A31: 1
A32: 2
A33: 3
A34: 4
A35: 5
B36: Signature of Assessors
B37: Date
A41: Checklist for Blood Bank
A42: Reference No. | B42: ME Statement | C42: Checkpoint | D42: Compliance | E42: Assessment Method | F42: Means of Verification | G42: Remarks
A43: . | B43: Area of Concern - A Service Provision | H43: =H44+H66+H72+H76+H98+H89 -> 18 | I43: =I44+I66+I72+I76+I98+I89 -> 18
A44: Standard A1. | B44: Facility Provides Curative Services | H44: =SUM(D45:D65) -> 10 | I44: =COUNT(D45:D65)*2 -> 10
...

Sheet Lab
A1: National Quality Assurance Standards for District Hospitals | G1: Version: DH/02/19
A2: Checklist for Laboratory | H2: 14
A3: Assessment Summary
A4: Name of the Hospital | F4: Date of Assessment
A5: Names of Assessors | F5: Names of Assessees
A6: Type of Assessment (Internal/External) | F6: Action plan Submission Date
A7: Laboratory Score Card
A8: Area of Concern wise Score | D8: Laboratory Score
A9: A | B9: Service Provision | C9: =Lab!D667 -> 1 | D9: =D675 -> 1
A10: B | B10: Patient Rights | C10: =Lab!D668 -> 1
A11: C | B11: Inputs | C11: =Lab!D669 -> 1
A12: D | B12: Support Services | C12: =Lab!D670 -> 1
A13: E | B13: Clinical Services | C13: =Lab!D671 -> 1
A14: F | B14: Infection Control | C14: =Lab!D672 -> 1
A15: G | B15: Quality Management | C15: =Lab!D673 -> 1
A16: H | B16: Outcome | C16: =Lab!D674 -> 1
B18: Major Gaps Observed
A19: 1
A20: 2
A21: 3
A22: 4
A23: 5
B24: Strengths / Good Practices
A25: 1
A26: 2
A27: 3
A28: 4
A29: 5
B30: Recommendations/ Opportunites for Improvement
A31: 1
A32: 2
A33: 3
A34: 4
A35: 5
B36: Signature of Assessors
B37: Date
A41: Checklist for Laboratory
A42: Standard | B42: ME Statement | C42: Checkpoint | D42: Compliance Full/Partial/No | E42: Audit Method | F42: Means of Verification | G42: Remarks
B43: Area of Concern - A Service Provision | H43: =H70+H82+H105+H44+H64+H96 -> 30 | I43: =I70+I82+I105+I44+I64+I96 -> 30
A44: Standard A1 | B44: Facility Provides Curative Services | H44: =SUM(D45:D63) -> 0 | I44: =COUNT(D45:D63)*2 -> 0
...

Sheet Radiology 
A1: National Quality Assurance Standards for District Hospitals | G1: Version: DH/02/19
A2: Checklist for Radiology Department | H2: 15
A3: Assessment Summary
A4: Name of the Hospital | F4: Date of Assessment
A5: Names of Assessors | F5: Names of Assessees
A6: Type of Assessment (Internal/External) | F6: Action plan Submission Date
A7: Radiology Score Card
A8: Area of Concern wise Score | D8: Radiology Score
A9: A | B9: Service Provision | C9: ='Radiology '!D618 -> 1 | D9: =D626 -> 1
A10: B | B10: Patient Rights | C10: ='Radiology '!D619 -> 1
A11: C | B11: Inputs | C11: ='Radiology '!D620 -> 1
A12: D | B12: Support Services | C12: ='Radiology '!D621 -> 1
A13: E | B13: Clinical Services | C13: ='Radiology '!D622 -> 1
A14: F | B14: Infection Control | C14: ='Radiology '!D623 -> 1
A15: G | B15: Quality Management | C15: ='Radiology '!D624 -> 1
A16: H | B16: Outcome | C16: ='Radiology '!D625 -> 1
B18: Major Gaps Observed
A19: 1
A20: 2
A21: 3
A22: 4
A23: 5
B24: Strengths / Good Practices
A25: 1
A26: 2
A27: 3
A28: 4
A29: 5
B30: Recommendations/ Opportunites for Improvement
A31: 1
A32: 2
A33: 3
A34: 4
A35: 5
B36: Signature of Assessors
B37: Date
A41: Reference no. | B41: ME Statement | C41: Checkpoint | D41: Compliance Full/Partial/No | E41: Assessment Method | F41: Means of Verification | G41: Remarks
B42: Area of Concern - A Service Provision | H42: =H43+H63+H69+H77+H90+H99 -> 16 | I42: =I43+I63+I69+I77+I90+I99 -> 16
A43: Standard A1 | B43: Facility Provides Curative Services | H43: =SUM(D44:D62) -> 4 | I43: =COUNT(D44:D62)*2 -> 4
A44: ME A1.1 | B44: The facility provides General Medicine services
...

Sheet Pharmacy
A1: National Quality Assurance Standards for District Hospitals | G1: Version: DH/02/19
A2: Checklist for Pharmacy Department | H2: 16
A3: Assessment Summary
A4: Name of the Hospital | F4: Date of Assessment
A5: Names of Assessors | F5: Names of Assessees
A6: Type of Assessment (Internal/External) | F6: Action plan Submission Date
A7: Pharmacy Score Card
A8: Area of Concern wise Score | D8: Pharmacy Score
A9: A | B9: Service Provision | C9: =Pharmacy!D610 -> 1 | D9: =D618 -> 1
A10: B | B10: Patient Rights | C10: =Pharmacy!D611 -> 1
A11: C | B11: Inputs | C11: =Pharmacy!D612 -> 1
A12: D | B12: Support Services | C12: =Pharmacy!D613 -> 1
A13: E | B13: Clinical Services | C13: =Pharmacy!D614 -> 1
A14: F | B14: Infection Control | C14: =Pharmacy!D615 -> 1
A15: G | B15: Quality Management | C15: =Pharmacy!D616 -> 1
A16: H | B16: Outcome | C16: =Pharmacy!D617 -> 1
B18: Major Gaps Observed
A19: 1
A20: 2
A21: 3
A22: 4
A23: 5
B24: Strengths / Good Practices
A25: 1
A26: 2
A27: 3
A28: 4
A29: 5
B30: Recommendations/ Opportunites for Improvement
A31: 1
A32: 2
A33: 3
A34: 4
A35: 5
B36: Signature of Assessors
B37: Date
A41: Reference No | B41: ME Statement | C41: Checkpoint | D41: Compliance Full/Partial/No | E41: Assessment Method | F41: Means of Verification | G41: Remarks
B42: Area of Concern - A Service Provision | H42: =H43+H74+H88+H64+H70+H100 -> 24 | I42: =I43+I74+I88+I64+I70 -> 24
A43: Standard A1 | B43: Facility Provides Curative Services | H43: =SUM(D44:D63) -> 6 | I43: =COUNT(D44:D63)*2 -> 6
A44: ME A1.1 | B44: The facility provides General Medicine services
...

Sheet Auxillary services
A1: National Quality Assurance Standards for District Hospitals | G1: Version: DH/02/19
A2: Checklist for Auxillary Services | H2: 17
A3: Assessment Summary
A4: Name of the Hospital | F4: Date of Assessment
A5: Names of Assessors | F5: Names of Assessees
A6: Type of Assessment (Internal/External) | F6: Action plan Submission Date
A7: Auxillary Services Score Card
B8: Area of Concern wise Score | D8: Auxillary Services Score
A9: A | B9: Service Provision | C9: ='Auxillary services'!D639 -> 1 | D9: =D647 -> 1
A10: B | B10: Patient Rights | C10: ='Auxillary services'!D640 -> 1
A11: C | B11: Inputs | C11: ='Auxillary services'!D641 -> 1
A12: D | B12: Support Services | C12: ='Auxillary services'!D642 -> 1
A13: E | B13: Clinical Services | C13: ='Auxillary services'!D643 -> 1
A14: F | B14: Infection Control | C14: ='Auxillary services'!D644 -> 1
A15: G | B15: Quality Management | C15: ='Auxillary services'!D645 -> 1
A16: H | B16: Outcome | C16: ='Auxillary services'!D646 -> 1
B18: Major Gaps Observed
A19: 1
A20: 2
A21: 3
A22: 4
A23: 5
B24: Strengths / Good Practices
A25: 1
A26: 2
A27: 3
A28: 4
A29: 5
B30: Recommendations/ Opportunites for Improvement
A31: 1
A32: 2
A33: 3
A34: 4
A35: 5
B36: Signature of Assessors
B37: Date
A41: Reference no | B41: ME Statement | C41: Checkpoint | D41: Compliance | E41: Assessment Method | F41: Means of Verification | G41: Remarks
B42: Area of Concern - A Service Provision | H42: =H85+H43+H62+H68+H72+H94 -> 14 | I42: =I85+I43+I62+I68+I72+I94 -> 14
A43: Standard A1 | B43: Facility Provides Curative Services | H43: =SUM(D44:D61) -> 0 | I43: =COUNT(D44:D61)*2 -> 0
A44: ME A1.1 | B44: The facility provides General Medicine services
...

Sheet Mortuary 
A1: National Quality Assurance Standards for District Hospitals | G1: Version: DH/02/19
A2: Checklist for Mortuary | H2: 18
A3: Assessment Summary
A4: Name of the Hospital | F4: Date of Assessment
A5: Names of Assessors | F5: Names of Assessees
A6: Type of Assessment (Internal/External) | F6: Action plan Submission Date
A7: Mortuary Score Card
A8: Area of Concern wise Score | D8: Mortuary Score
A9: A | B9: Service Provision | C9: ='Mortuary '!D582 -> 1 | D9: =D590 -> 1
A10: B | B10: Patient Rights | C10: ='Mortuary '!D583 -> 1
A11: C | B11: Inputs | C11: ='Mortuary '!D584 -> 1
A12: D | B12: Support Services | C12: ='Mortuary '!D585 -> 1
A13: E | B13: Clinical Services | C13: ='Mortuary '!D586 -> 1
A14: F | B14: Infection Control | C14: ='Mortuary '!D587 -> 1
A15: G | B15: Quality Management | C15: ='Mortuary '!D588 -> 1
A16: H | B16: Outcome | C16: ='Mortuary '!D589 -> 1
B18: Major Gaps Observed
A19: 1
A20: 2
A21: 3
A22: 4
A23: 5
B24: Strengths / Good Practices
A25: 1
A26: 2
A27: 3
A28: 4
A29: 5
B30: Recommendations/ Opportunites for Improvement
A31: 1
A32: 2
A33: 3
A34: 4
A35: 5
B36: Signature of Assessors
B37: Date
A38: Checklist for Mortuary
A41: Reference No. | B41: ME Statement | C41: Checkpoints | D41: Compliance | E41: Assessment method | F41: Audit Support | G41: Remark
B42: Area of Concern - A Service Provision | H42: =H43+H85+H62+H68+H72+H97 -> 10 | I42: =I43+I85+I62+I68+I72+I97 -> 10
A43: Standard A1 | B43: The facility provides Curative Services | H43: =SUM(D44:D61) -> 2 | I43: =COUNT(D57)*2 -> 2
...

Sheet Admin
A1: National Quality Assurance Standards for District Hospitals | G1: Version: DH/02/19
A2: Checklist for Administration | H2: 19
A3: Assessment Summary
A4: Name of the Hospital | F4: Date of Assessment
A5: Names of Assessors | F5: Names of Assessees
A6: Type of Assessment (Internal/External) | F6: Action plan Submission Date
A7: Administration Score Card
B8: Area of Concern wise Score | D8: Administration Score
A9: A | B9: Service Provision | C9: =Admin!D880 -> 1 | D9: =D888 -> 0.99915683
A10: B | B10: Patient Rights | C10: =Admin!D881 -> 1
A11: C | B11: Inputs | C11: =Admin!D882 -> 0.99576271
A12: D | B12: Support Services | C12: =Admin!D883 -> 1
A13: E | B13: Clinical Services | C13: =Admin!D884 -> 1
A14: F | B14: Infection Control | C14: =Admin!D885 -> 1
A15: G | B15: Quality Management | C15: =Admin!D886 -> 1
A16: H | B16: Outcome | C16: =Admin!D887 -> 1
B18: Major Gaps Observed
A19: 1
A20: 2
A21: 3
A22: 4
A23: 5
B24: Strengths / Good Practices
A25: 1
A26: 2
A27: 3
A28: 4
A29: 5
B30: Recommendations/ Opportunites for Improvement
A31: 1
A32: 2
A33: 3
A34: 4
A35: 5
B36: Signature of Assessors
B37: Date
A40: Checklist for General Administration
A41: Reference No. | B41: ME Statement | C41: Checkpoint | D41: Compliance | E41: Assessment Method | F41: Means of Verification | G41: Remarks
B42: Area of Concern - A Service Provision | H42: =H43+H63+H71+H77+H93+H102 -> 66 | I42: =I43+I63+I71+I77+I93+I102 -> 66
A43: Standard A1 | B43: Facility Provides Curative Services | H43: =SUM(D44:D62) -> 8 | I43: =COUNT(D44:D62)*2 -> 8
...

Sheet Sheet1
